BEGIN:VCALENDAR
VERSION:2.0
PRODID:https://www.eco.de/event/eco-panel-igf2019-beduerfnisse-und-forderungen-von-kmus-an-das-internet-der-zukunft/
BEGIN:VEVENT
UID:104630
DTSTAMP:20260423T002408
DTSTART:20191125T124500
DTEND:20191125T141500
SUMMARY:eco Panel @ IGF2019 – Bedürfnisse und Forderungen von KMUs an das Internet der Zukunft
LOCATION:Estrel Congress Center\, Saal C\, Sonnenallee 225\, 12057 Berlin
ORGANIZER:eco
URL:https://www.eco.de/event/eco-panel-igf2019-beduerfnisse-und-forderungen-von-kmus-an-das-internet-der-zukunft/
DESCRIPTION:eco Panel @ IGF2019 – Bedürfnisse und Forderungen von KMUs an das Internet der Zukunft
END:VEVENT
END:VCALENDAR
