BEGIN:VCALENDAR
VERSION:2.0
PRODID:https://www.eco.de/event/capacity-central-eastern-europe-2016/
BEGIN:VEVENT
UID:10524
DTSTAMP:20260424T101148
DTSTART:20160615T000000
DTEND:20160616T000000
SUMMARY:Capacity Central & Eastern Europe 2016
LOCATION:
ORGANIZER:eco
URL:https://www.eco.de/event/capacity-central-eastern-europe-2016/
DESCRIPTION:Capacity Central & Eastern Europe 2016
END:VEVENT
END:VCALENDAR
