BEGIN:VCALENDAR
VERSION:2.0
PRODID:https://www.eco.de/event/it-monitoring-roadshow-muenchen/
BEGIN:VEVENT
UID:10967
DTSTAMP:20260424T195217
DTSTART:20160602T120000
DTEND:20260424T195217
SUMMARY:IT-Monitoring Roadshow – München
LOCATION:
ORGANIZER:eco
URL:https://www.eco.de/event/it-monitoring-roadshow-muenchen/
DESCRIPTION:IT-Monitoring Roadshow – München
END:VEVENT
END:VCALENDAR
