BEGIN:VCALENDAR
VERSION:2.0
PRODID:https://www.eco.de/event/it-monitoring-roadshow-koeln/
BEGIN:VEVENT
UID:10978
DTSTAMP:20260424T160004
DTSTART:20160607T120000
DTEND:20260424T160004
SUMMARY:IT-Monitoring Roadshow – Köln
LOCATION:
ORGANIZER:eco
URL:https://www.eco.de/event/it-monitoring-roadshow-koeln/
DESCRIPTION:IT-Monitoring Roadshow – Köln
END:VEVENT
END:VCALENDAR
