BEGIN:VCALENDAR
VERSION:2.0
PRODID:https://www.eco.de/event/it-monitoring-roadshow-berlin/
BEGIN:VEVENT
UID:10980
DTSTAMP:20260424T141724
DTSTART:20160609T120000
DTEND:20260424T141724
SUMMARY:IT-Monitoring Roadshow – Berlin
LOCATION:
ORGANIZER:eco
URL:https://www.eco.de/event/it-monitoring-roadshow-berlin/
DESCRIPTION:IT-Monitoring Roadshow – Berlin
END:VEVENT
END:VCALENDAR
