BEGIN:VCALENDAR
VERSION:2.0
PRODID:https://www.eco.de/event/knowledge-centered-support-kcs/
BEGIN:VEVENT
UID:11335
DTSTAMP:20260424T175337
DTSTART:20160531T000000
DTEND:20160602T000000
SUMMARY:Knowledge Centered Support (KCS)
LOCATION:
ORGANIZER:eco
URL:https://www.eco.de/event/knowledge-centered-support-kcs/
DESCRIPTION:Knowledge Centered Support (KCS)
END:VEVENT
END:VCALENDAR
