BEGIN:VCALENDAR
VERSION:2.0
PRODID:https://www.eco.de/event/the-cloud-is-a-data-centre/
BEGIN:VEVENT
UID:11670
DTSTAMP:20260424T121639
DTSTART:20160615T083000
DTEND:20260424T100000
SUMMARY:The Cloud is a Data Centre
LOCATION:
ORGANIZER:eco
URL:https://www.eco.de/event/the-cloud-is-a-data-centre/
DESCRIPTION:The Cloud is a Data Centre
END:VEVENT
END:VCALENDAR
