BEGIN:VCALENDAR
VERSION:2.0
PRODID:https://www.eco.de/event/industry-round-table-discussion-on-eu-priorities-for-data-centre-operators/
BEGIN:VEVENT
UID:11686
DTSTAMP:20260424T122115
DTSTART:20160615T110000
DTEND:20260424T140000
SUMMARY:Industry round table discussion on EU priorities for data centre operators
LOCATION:
ORGANIZER:eco
URL:https://www.eco.de/event/industry-round-table-discussion-on-eu-priorities-for-data-centre-operators/
DESCRIPTION:Industry round table discussion on EU priorities for data centre operators
END:VEVENT
END:VCALENDAR
