BEGIN:VCALENDAR
VERSION:2.0
PRODID:https://www.eco.de/event/firewall-on-the-road-berlin/
BEGIN:VEVENT
UID:12285
DTSTAMP:20260424T064525
DTSTART:20160708T090000
DTEND:20260424T133000
SUMMARY:Firewall on the road – Berlin
LOCATION:
ORGANIZER:eco
URL:https://www.eco.de/event/firewall-on-the-road-berlin/
DESCRIPTION:Firewall on the road – Berlin
END:VEVENT
END:VCALENDAR
