BEGIN:VCALENDAR
VERSION:2.0
PRODID:https://www.eco.de/event/firewall-on-the-road-muenchen/
BEGIN:VEVENT
UID:12343
DTSTAMP:20260424T045148
DTSTART:20160719T090000
DTEND:20260424T133000
SUMMARY:Firewall on the road – München
LOCATION:
ORGANIZER:eco
URL:https://www.eco.de/event/firewall-on-the-road-muenchen/
DESCRIPTION:Firewall on the road – München
END:VEVENT
END:VCALENDAR
