BEGIN:VCALENDAR
VERSION:2.0
PRODID:https://www.eco.de/event/firewall-on-the-road-frankfurt/
BEGIN:VEVENT
UID:12344
DTSTAMP:20260424T062538
DTSTART:20160712T123000
DTEND:20260424T170000
SUMMARY:Firewall on the road – Frankfurt
LOCATION:
ORGANIZER:eco
URL:https://www.eco.de/event/firewall-on-the-road-frankfurt/
DESCRIPTION:Firewall on the road – Frankfurt
END:VEVENT
END:VCALENDAR
