BEGIN:VCALENDAR
VERSION:2.0
PRODID:https://www.eco.de/event/php-ruhr-2016/
BEGIN:VEVENT
UID:12360
DTSTAMP:20260423T165333
DTSTART:20161110T000000
DTEND:20260423T165333
SUMMARY:PHP.RUHR 2016
LOCATION:
ORGANIZER:eco
URL:https://www.eco.de/event/php-ruhr-2016/
DESCRIPTION:PHP.RUHR 2016
END:VEVENT
END:VCALENDAR
