BEGIN:VCALENDAR
VERSION:2.0
PRODID:https://www.eco.de/event/eurocloud-forum-2016/
BEGIN:VEVENT
UID:12374
DTSTAMP:20260423T224943
DTSTART:20161005T000000
DTEND:20161006T000000
SUMMARY:EuroCloud Forum 2016
LOCATION:
ORGANIZER:eco
URL:https://www.eco.de/event/eurocloud-forum-2016/
DESCRIPTION:EuroCloud Forum 2016
END:VEVENT
END:VCALENDAR
