BEGIN:VCALENDAR
VERSION:2.0
PRODID:https://www.eco.de/event/internet-security-days-2016/
BEGIN:VEVENT
UID:12490
DTSTAMP:20260424T043658
DTSTART:20160922T000000
DTEND:20160923T000000
SUMMARY:Internet Security Days 2016
LOCATION:
ORGANIZER:eco
URL:https://www.eco.de/event/internet-security-days-2016/
DESCRIPTION:Internet Security Days 2016
END:VEVENT
END:VCALENDAR
