BEGIN:VCALENDAR
VERSION:2.0
PRODID:https://www.eco.de/event/germany-connect-2017/
BEGIN:VEVENT
UID:12602
DTSTAMP:20260423T093522
DTSTART:20170124T000000
DTEND:20170125T000000
SUMMARY:Germany Connect 2017
LOCATION:
ORGANIZER:eco
URL:https://www.eco.de/event/germany-connect-2017/
DESCRIPTION:Germany Connect 2017
END:VEVENT
END:VCALENDAR
