BEGIN:VCALENDAR
VERSION:2.0
PRODID:https://www.eco.de/event/ox-summit-2016-2/
BEGIN:VEVENT
UID:12619
DTSTAMP:20260423T191653
DTSTART:20161013T000000
DTEND:20161014T000000
SUMMARY:OX Summit 2016
LOCATION:
ORGANIZER:eco
URL:https://www.eco.de/event/ox-summit-2016-2/
DESCRIPTION:OX Summit 2016
END:VEVENT
END:VCALENDAR
