BEGIN:VCALENDAR
VERSION:2.0
PRODID:https://www.eco.de/event/future-thinking-2017/
BEGIN:VEVENT
UID:12641
DTSTAMP:20260422T175414
DTSTART:20170425T000000
DTEND:20170426T000000
SUMMARY:future thinking 2017
LOCATION:
ORGANIZER:eco
URL:https://www.eco.de/event/future-thinking-2017/
DESCRIPTION:future thinking 2017
END:VEVENT
END:VCALENDAR
