BEGIN:VCALENDAR
VERSION:2.0
PRODID:https://www.eco.de/event/wie-video-den-finanzsektor-revolutioniert/
BEGIN:VEVENT
UID:12684
DTSTAMP:20260423T211436
DTSTART:20161006T000000
DTEND:20260423T211436
SUMMARY:Wie Video den Finanzsektor revolutioniert
LOCATION:
ORGANIZER:eco
URL:https://www.eco.de/event/wie-video-den-finanzsektor-revolutioniert/
DESCRIPTION:Wie Video den Finanzsektor revolutioniert
END:VEVENT
END:VCALENDAR
