BEGIN:VCALENDAR
VERSION:2.0
PRODID:https://www.eco.de/event/silicon-valley-tour-2016/
BEGIN:VEVENT
UID:12918
DTSTAMP:20260423T173004
DTSTART:20161101T000000
DTEND:20161107T000000
SUMMARY:Silicon Valley Tour 2016
LOCATION:
ORGANIZER:eco
URL:https://www.eco.de/event/silicon-valley-tour-2016/
DESCRIPTION:Silicon Valley Tour 2016
END:VEVENT
END:VCALENDAR
