BEGIN:VCALENDAR
VERSION:2.0
PRODID:https://www.eco.de/event/container-seminar-the-datacenter-as-a-computer-frankfurt/
BEGIN:VEVENT
UID:12935
DTSTAMP:20260424T030047
DTSTART:20160922T000000
DTEND:20160923T000000
SUMMARY:Container Seminar – The Datacenter as a  Computer (Frankfurt)
LOCATION:
ORGANIZER:eco
URL:https://www.eco.de/event/container-seminar-the-datacenter-as-a-computer-frankfurt/
DESCRIPTION:Container Seminar – The Datacenter as a  Computer (Frankfurt)
END:VEVENT
END:VCALENDAR
