BEGIN:VCALENDAR
VERSION:2.0
PRODID:https://www.eco.de/event/container-seminar-the-datacenter-as-a-computer-hamburg/
BEGIN:VEVENT
UID:12970
DTSTAMP:20260423T190833
DTSTART:20161020T000000
DTEND:20161020T000000
SUMMARY:Container Seminar – The Datacenter as a  Computer (Hamburg)
LOCATION:
ORGANIZER:eco
URL:https://www.eco.de/event/container-seminar-the-datacenter-as-a-computer-hamburg/
DESCRIPTION:Container Seminar – The Datacenter as a  Computer (Hamburg)
END:VEVENT
END:VCALENDAR
