BEGIN:VCALENDAR
VERSION:2.0
PRODID:https://www.eco.de/event/strategischer-ausblick-im-tk-markt/
BEGIN:VEVENT
UID:12992
DTSTAMP:20260423T232025
DTSTART:20160928T000000
DTEND:20160928T000000
SUMMARY:Strategischer Ausblick im TK-Markt
LOCATION:
ORGANIZER:eco
URL:https://www.eco.de/event/strategischer-ausblick-im-tk-markt/
DESCRIPTION:Strategischer Ausblick im TK-Markt
END:VEVENT
END:VCALENDAR
