BEGIN:VCALENDAR
VERSION:2.0
PRODID:https://www.eco.de/event/520-wochen-ein-blick-in-die-zukunft-unserer-gesellschaft-und-der-it-welt/
BEGIN:VEVENT
UID:13089
DTSTAMP:20260423T170707
DTSTART:20161025T170000
DTEND:20260423T190000
SUMMARY:520  Wochen – ein Blick in die Zukunft unserer Gesellschaft und der IT-Welt
LOCATION:
ORGANIZER:eco
URL:https://www.eco.de/event/520-wochen-ein-blick-in-die-zukunft-unserer-gesellschaft-und-der-it-welt/
DESCRIPTION:520  Wochen – ein Blick in die Zukunft unserer Gesellschaft und der IT-Welt
END:VEVENT
END:VCALENDAR
