BEGIN:VCALENDAR
VERSION:2.0
PRODID:https://www.eco.de/event/webinar-fit-fuer-die-energiewende-data-center-in-deutschland/
BEGIN:VEVENT
UID:13317
DTSTAMP:20260424T004239
DTSTART:20160927T140000
DTEND:20160927T144500
SUMMARY:Webinar: Fit für die Energiewende – Data Center in Deutschland
LOCATION:
ORGANIZER:eco
URL:https://www.eco.de/event/webinar-fit-fuer-die-energiewende-data-center-in-deutschland/
DESCRIPTION:Webinar: Fit für die Energiewende – Data Center in Deutschland
END:VEVENT
END:VCALENDAR
