BEGIN:VCALENDAR
VERSION:2.0
PRODID:https://www.eco.de/event/eco-digital-pitching-night/
BEGIN:VEVENT
UID:13388
DTSTAMP:20260423T145640
DTSTART:20161109T180000
DTEND:20161109T233000
SUMMARY:eco digital pitching night
LOCATION:
ORGANIZER:eco
URL:https://www.eco.de/event/eco-digital-pitching-night/
DESCRIPTION:eco digital pitching night
END:VEVENT
END:VCALENDAR
