BEGIN:VCALENDAR
VERSION:2.0
PRODID:https://www.eco.de/event/transatlantic-dialogue-on-intermediary-liability-part-i-the-internet-industry-speaks-with-the-u-s/
BEGIN:VEVENT
UID:134829
DTSTAMP:20260420T225612
DTSTART:20201015T160000
DTEND:20201015T170000
SUMMARY:Transatlantic Dialogue on Intermediary Liability – Part I: The Internet industry speaks with the U.S.
LOCATION:
ORGANIZER:eco
URL:https://www.eco.de/event/transatlantic-dialogue-on-intermediary-liability-part-i-the-internet-industry-speaks-with-the-u-s/
DESCRIPTION:Transatlantic Dialogue on Intermediary Liability – Part I: The Internet industry speaks with the U.S.
END:VEVENT
END:VCALENDAR
