BEGIN:VCALENDAR
VERSION:2.0
PRODID:https://www.eco.de/event/data-centre-world-2016-eco-panel-sessions/
BEGIN:VEVENT
UID:13688
DTSTAMP:20260423T130944
DTSTART:20161123T000000
DTEND:20161123T000000
SUMMARY:DATA CENTRE WORLD 2016 – eco Panel Sessions
LOCATION:
ORGANIZER:eco
URL:https://www.eco.de/event/data-centre-world-2016-eco-panel-sessions/
DESCRIPTION:DATA CENTRE WORLD 2016 – eco Panel Sessions
END:VEVENT
END:VCALENDAR
