BEGIN:VCALENDAR
VERSION:2.0
PRODID:https://www.eco.de/event/virtual-reality-koennen-die-telkos-hier-mitmischen/
BEGIN:VEVENT
UID:13822
DTSTAMP:20260423T132900
DTSTART:20161207T173000
DTEND:20260423T132900
SUMMARY:Virtual Reality – Können die Telkos hier mitmischen?
LOCATION:
ORGANIZER:eco
URL:https://www.eco.de/event/virtual-reality-koennen-die-telkos-hier-mitmischen/
DESCRIPTION:Virtual Reality – Können die Telkos hier mitmischen?
END:VEVENT
END:VCALENDAR
