BEGIN:VCALENDAR
VERSION:2.0
PRODID:https://www.eco.de/event/data-santa-sagt-ihren-kunden-danke/
BEGIN:VEVENT
UID:13833
DTSTAMP:20260423T112501
DTSTART:20161214T160000
DTEND:20260423T112501
SUMMARY:Data Santa sagt Ihren Kunden Danke!
LOCATION:
ORGANIZER:eco
URL:https://www.eco.de/event/data-santa-sagt-ihren-kunden-danke/
DESCRIPTION:Data Santa sagt Ihren Kunden Danke!
END:VEVENT
END:VCALENDAR
