BEGIN:VCALENDAR
VERSION:2.0
PRODID:https://www.eco.de/event/whd-global-2017-5/
BEGIN:VEVENT
UID:14471
DTSTAMP:20260422T235631
DTSTART:20170325T000000
DTEND:20170331T000000
SUMMARY:WHD.global 2017
LOCATION:
ORGANIZER:eco
URL:https://www.eco.de/event/whd-global-2017-5/
DESCRIPTION:WHD.global 2017
END:VEVENT
END:VCALENDAR
