BEGIN:VCALENDAR
VERSION:2.0
PRODID:https://www.eco.de/event/eco-neujahrsempfang-cocktailabend-2017-5/
BEGIN:VEVENT
UID:14507
DTSTAMP:20260423T093653
DTSTART:20170119T190000
DTEND:20170119T000000
SUMMARY:eco Neujahrsempfang & Cocktailabend 2017
LOCATION:
ORGANIZER:eco
URL:https://www.eco.de/event/eco-neujahrsempfang-cocktailabend-2017-5/
DESCRIPTION:eco Neujahrsempfang & Cocktailabend 2017
END:VEVENT
END:VCALENDAR
