BEGIN:VCALENDAR
VERSION:2.0
PRODID:https://www.eco.de/event/its-breakfast-januar/
BEGIN:VEVENT
UID:14521
DTSTAMP:20260423T060232
DTSTART:20170127T090000
DTEND:20260423T060232
SUMMARY:Software Defined Perimeter
LOCATION:
ORGANIZER:eco
URL:https://www.eco.de/event/its-breakfast-januar/
DESCRIPTION:Software Defined Perimeter
END:VEVENT
END:VCALENDAR
