BEGIN:VCALENDAR
VERSION:2.0
PRODID:https://www.eco.de/event/it-trends-sicherheit-2017-bochum/
BEGIN:VEVENT
UID:14588
DTSTAMP:20260422T214452
DTSTART:20170329T000000
DTEND:20260422T214452
SUMMARY:IT-Trends Sicherheit 2017 - Bochum
LOCATION:VfL Bochum Stadioncenter\, Castroper Straße 145\, 44791 Bochum
ORGANIZER:eco
URL:https://www.eco.de/event/it-trends-sicherheit-2017-bochum/
DESCRIPTION:IT-Trends Sicherheit 2017 - Bochum
END:VEVENT
END:VCALENDAR
