BEGIN:VCALENDAR
VERSION:2.0
PRODID:https://www.eco.de/event/it-infrastruktur-effektiver-und-produktiver-nutzen/
BEGIN:VEVENT
UID:14616
DTSTAMP:20260423T052215
DTSTART:20170217T093000
DTEND:20260423T113000
SUMMARY:IT Infrastruktur effektiver und produktiver nutzen
LOCATION:
ORGANIZER:eco
URL:https://www.eco.de/event/it-infrastruktur-effektiver-und-produktiver-nutzen/
DESCRIPTION:IT Infrastruktur effektiver und produktiver nutzen
END:VEVENT
END:VCALENDAR
