BEGIN:VCALENDAR
VERSION:2.0
PRODID:https://www.eco.de/event/anga-com-2017/
BEGIN:VEVENT
UID:14855
DTSTAMP:20260422T160432
DTSTART:20170530T000000
DTEND:20170601T000000
SUMMARY:ANGA COM 2017
LOCATION:
ORGANIZER:eco
URL:https://www.eco.de/event/anga-com-2017/
DESCRIPTION:ANGA COM 2017
END:VEVENT
END:VCALENDAR
