BEGIN:VCALENDAR
VERSION:2.0
PRODID:https://www.eco.de/event/wenn-der-staatsanwalt-zwei-mal-klingelt/
BEGIN:VEVENT
UID:14950
DTSTAMP:20260423T015233
DTSTART:20170324T093000
DTEND:20260423T015233
SUMMARY:Wenn der Staatsanwalt zweimal klingelt …
LOCATION:
ORGANIZER:eco
URL:https://www.eco.de/event/wenn-der-staatsanwalt-zwei-mal-klingelt/
DESCRIPTION:Wenn der Staatsanwalt zweimal klingelt …
END:VEVENT
END:VCALENDAR
