BEGIN:VCALENDAR
VERSION:2.0
PRODID:https://www.eco.de/event/kieler-woche-2016-im-zeichen-der-digitalen-transformation/
BEGIN:VEVENT
UID:15148
DTSTAMP:20260424T104454
DTSTART:20160620T120000
DTEND:20160621T120000
SUMMARY:Kieler Woche 2016 – Im Zeichen der Digitalen Transformation
LOCATION:
ORGANIZER:eco
URL:https://www.eco.de/event/kieler-woche-2016-im-zeichen-der-digitalen-transformation/
DESCRIPTION:Kieler Woche 2016 – Im Zeichen der Digitalen Transformation
END:VEVENT
END:VCALENDAR
