BEGIN:VCALENDAR
VERSION:2.0
PRODID:https://www.eco.de/event/it-sicherheitsgesetz-in-theorie-und-praxis-3/
BEGIN:VEVENT
UID:15160
DTSTAMP:20260422T214555
DTSTART:20170331T090000
DTEND:20170331T000000
SUMMARY:IT-Sicherheitsgesetz in Theorie und Praxis
LOCATION:
ORGANIZER:eco
URL:https://www.eco.de/event/it-sicherheitsgesetz-in-theorie-und-praxis-3/
DESCRIPTION:IT-Sicherheitsgesetz in Theorie und Praxis
END:VEVENT
END:VCALENDAR
