BEGIN:VCALENDAR
VERSION:2.0
PRODID:https://www.eco.de/event/eureca-uba-seminar-umweltorientierte-innovative-rechenzentrumsloesungen-2/
BEGIN:VEVENT
UID:15229
DTSTAMP:20260422T194615
DTSTART:20170424T100000
DTEND:20260422T194615
SUMMARY:EURECA & UBA-Seminar: Umweltorientierte\, innovative Rechenzentrumslösungen
LOCATION:
ORGANIZER:eco
URL:https://www.eco.de/event/eureca-uba-seminar-umweltorientierte-innovative-rechenzentrumsloesungen-2/
DESCRIPTION:EURECA & UBA-Seminar: Umweltorientierte\, innovative Rechenzentrumslösungen
END:VEVENT
END:VCALENDAR
