BEGIN:VCALENDAR
VERSION:2.0
PRODID:https://www.eco.de/event/wahl-digital-2021-digitale-gesellschaft/
BEGIN:VEVENT
UID:155202
DTSTAMP:20260422T065225
DTSTART:20210623T180000
DTEND:20210623T194500
SUMMARY:Wahl/ Digital 2021 - Digitale Gesellschaft
LOCATION:
ORGANIZER:eco
URL:https://www.eco.de/event/wahl-digital-2021-digitale-gesellschaft/
DESCRIPTION:Wahl/ Digital 2021 - Digitale Gesellschaft
END:VEVENT
END:VCALENDAR
