BEGIN:VCALENDAR
VERSION:2.0
PRODID:https://www.eco.de/event/technologietreiber-in-bayern-noris-network-ag/
BEGIN:VEVENT
UID:15584
DTSTAMP:20260422T115101
DTSTART:20170720T180000
DTEND:20170720T210000
SUMMARY:Technologietreiber in Bayern – noris network AG
LOCATION:MUC5 – noris network AG\, Klausnerstraße 30\, 85609 Aschheim
ORGANIZER:eco
URL:https://www.eco.de/event/technologietreiber-in-bayern-noris-network-ag/
DESCRIPTION:Technologietreiber in Bayern – noris network AG
END:VEVENT
END:VCALENDAR
