BEGIN:VCALENDAR
VERSION:2.0
PRODID:https://www.eco.de/event/container-seminar-muenchen/
BEGIN:VEVENT
UID:15758
DTSTAMP:20260422T142406
DTSTART:20170629T000000
DTEND:20170630T000000
SUMMARY:Container Seminar – München
LOCATION:ExperTeach\, Wredestraße 11\, 80335 München
ORGANIZER:eco
URL:https://www.eco.de/event/container-seminar-muenchen/
DESCRIPTION:Container Seminar – München
END:VEVENT
END:VCALENDAR
