BEGIN:VCALENDAR
VERSION:2.0
PRODID:https://www.eco.de/event/nordic_domain_days_2017/
BEGIN:VEVENT
UID:15944
DTSTAMP:20260421T142546
DTSTART:20171120T000000
DTEND:20171121T000000
SUMMARY:NORDIC DOMAIN DAYS 2017
LOCATION:Stockholm Waterfront Conference Centre\, Nils Ericsons Plan 4\, 111 64 Stockholm
ORGANIZER:eco
URL:https://www.eco.de/event/nordic_domain_days_2017/
DESCRIPTION:NORDIC DOMAIN DAYS 2017
END:VEVENT
END:VCALENDAR
