BEGIN:VCALENDAR
VERSION:2.0
PRODID:https://www.eco.de/event/188131/
BEGIN:VEVENT
UID:188131
DTSTAMP:20260422T174712
DTSTART:20220331T150000
DTEND:20220331T160000
SUMMARY:Politik im Gespräch mit Staatssekretär Stefan Schnorr\, Bundesministerium für Digitalisierung und Verkehr
LOCATION:
ORGANIZER:eco
URL:https://www.eco.de/event/188131/
DESCRIPTION:Politik im Gespräch mit Staatssekretär Stefan Schnorr\, Bundesministerium für Digitalisierung und Verkehr
END:VEVENT
END:VCALENDAR
