BEGIN:VCALENDAR
VERSION:2.0
PRODID:https://www.eco.de/event/nordic-domain-days-2022/
BEGIN:VEVENT
UID:189912
DTSTAMP:20260421T175553
DTSTART:20220509T100000
DTEND:20220510T170000
SUMMARY:Nordic Domain Days 2022
LOCATION:
ORGANIZER:eco
URL:https://www.eco.de/event/nordic-domain-days-2022/
DESCRIPTION:Nordic Domain Days 2022
END:VEVENT
END:VCALENDAR
