BEGIN:VCALENDAR
VERSION:2.0
PRODID:https://www.eco.de/event/blockchain-convention-2022/
BEGIN:VEVENT
UID:191575
DTSTAMP:20260425T223854
DTSTART:20220621T090000
DTEND:20220621T180000
SUMMARY:Blockchain Convention 2022
LOCATION:Blockchain Reallabor des Landes NRW\, Euronova Campus (Halle 6)\, An der Hasenkaule 10\, 50354 Hürth / Köln
ORGANIZER:eco
URL:https://www.eco.de/event/blockchain-convention-2022/
DESCRIPTION:Blockchain Convention 2022
END:VEVENT
END:VCALENDAR
