BEGIN:VCALENDAR
VERSION:2.0
PRODID:https://www.eco.de/event/192307/
BEGIN:VEVENT
UID:192307
DTSTAMP:20260425T205858
DTSTART:20220511T140000
DTEND:20220511T150000
SUMMARY:Expertenlunch Jugendmedienschutz
LOCATION:
ORGANIZER:eco
URL:https://www.eco.de/event/192307/
DESCRIPTION:Expertenlunch Jugendmedienschutz
END:VEVENT
END:VCALENDAR
