BEGIN:VCALENDAR
VERSION:2.0
PRODID:https://www.eco.de/event/politik-im-gespraech-5/
BEGIN:VEVENT
UID:193047
DTSTAMP:20260425T142949
DTSTART:20220601T100000
DTEND:20220601T110000
SUMMARY:Politik im Gespräch - Präsident der Bundesnetzagentur\, Klaus Müller
LOCATION:
ORGANIZER:eco
URL:https://www.eco.de/event/politik-im-gespraech-5/
DESCRIPTION:Politik im Gespräch - Präsident der Bundesnetzagentur\, Klaus Müller
END:VEVENT
END:VCALENDAR
