BEGIN:VCALENDAR
VERSION:2.0
PRODID:https://www.eco.de/event/fachgespraech-oekobilanz-der-internetwirtschaft/
BEGIN:VEVENT
UID:1951
DTSTAMP:20260423T010138
DTSTART:20170323T123000
DTEND:20170323T000000
SUMMARY:Fachgespräch: Ökobilanz der Internetwirtschaft
LOCATION:DE-CIX\, Lindleystraße 12\, 60314 Frankfurt am Main
ORGANIZER:eco
URL:https://www.eco.de/event/fachgespraech-oekobilanz-der-internetwirtschaft/
DESCRIPTION:Fachgespräch: Ökobilanz der Internetwirtschaft
END:VEVENT
END:VCALENDAR
