BEGIN:VCALENDAR
VERSION:2.0
PRODID:https://www.eco.de/event/eco-pr-lunch/
BEGIN:VEVENT
UID:195886
DTSTAMP:20260423T073148
DTSTART:20220629T120000
DTEND:20220629T140000
SUMMARY:eco PR Lunch
LOCATION:eco Hauptstadtbüro\, Französische Straße 48\, 10117 Berlin
ORGANIZER:eco
URL:https://www.eco.de/event/eco-pr-lunch/
DESCRIPTION:eco PR Lunch
END:VEVENT
END:VCALENDAR
